BEGIN:VCALENDAR
VERSION:2.0
PRODID:-//CiviCRM//NONSGML CiviEvent iCal//EN
X-WR-TIMEZONE:America/Toronto
METHOD:PUBLISH
BEGIN:VTIMEZONE
TZID:America/Toronto
BEGIN:DAYLIGHT
TZOFFSETFROM:-0400
TZOFFSETTO:-0400
TZNAME:EDT
DTSTART:20260511T090000
END:DAYLIGHT
END:VTIMEZONE
BEGIN:VEVENT
UID:CiviCRM_EventID_78_0e401c98cfe50cb3d4d7cb71b04e8a09@soar.on.ca
SUMMARY:SOAR OsgoodePD Certificate in Adjudication for Adm
 inistrative Agencies\, Boards and Tribunals
X-ALT-DESC;FMTTYPE=text/html:<!DOCTYPE HTML PUBLIC
  "-//W3C//DTD HTML 3.2//EN"><html><body><h2><u><a 
 href="https://osgoodepd.ca/professional-developmen
 t/certificates/adjudication-for-administrative-age
 ncies-boards-and-tribunals-online-blended/"><stron
 g>SOAR OsgoodePD Certificate in Adjudication for A
 dministrative Agencies\, Boards and Tribunals </st
 rong></a></u></h2>\n \n <p><em>A joint program of 
 the Society of Ontario Adjudicators and Regulators
  (SOAR) and Osgoode Professional Development. Comp
 letion of this program will prepare you for the un
 ique challenges of administrative adjudication\, w
 ill build confidence\, and will strengthen your ca
 pacity to contribute effectively to your organizat
 ion.</em></p>\n \n <p style="margin:0px 0px 1em\;p
 adding:0px\;border:0px\;color:rgb(0\,0\,0)\;text-t
 ransform:none\;line-height:1.3\;text-indent:0px\;l
 etter-spacing:normal\;font-family:Arial\, Helvetic
 a\, sans-serif\;font-size:14px\;font-style:normal\
 ;font-weight:400\;word-spacing:0px\;vertical-align
 :baseline\;white-space:normal\;background-color:rg
 b(255\,255\,255)\;">Learn to run a fair and effect
 ive administrative proceeding. Over the course of 
 12 years\, the Certificate has provided hundreds o
 f professionals with the practical skills and lega
 l knowledge they need to perform effectively in th
 e administrative adjudication arena.</p>\n \n <p s
 tyle="margin:0px 0px 1em\;padding:0px\;border:0px\
 ;color:rgb(0\,0\,0)\;text-transform:none\;line-hei
 ght:1.3\;text-indent:0px\;letter-spacing:normal\;f
 ont-family:Arial\, Helvetica\, sans-serif\;font-si
 ze:14px\;font-style:normal\;font-weight:400\;word-
 spacing:0px\;vertical-align:baseline\;white-space:
 normal\;background-color:rgb(255\,255\,255)\;">Wor
 king with real-life fact scenarios\, problems and 
 demonstrations\, you will acquire a solid foundati
 on in the legal underpinnings of administrative ad
 judication\, develop and refine your adjudication 
 skills\, and learn practical strategies for effect
 ive hearing management.</p>\n \n <ul style="list-s
 tyle:none\;margin:0px 0px 1em 1em\;padding:0px\;bo
 rder:0px\;color:rgb(0\,0\,0)\;text-transform:none\
 ;line-height:inherit\;text-indent:0px\;letter-spac
 ing:normal\;font-family:Arial\, Helvetica\, sans-s
 erif\;font-size:14px\;font-style:normal\;font-weig
 ht:400\;word-spacing:0px\;vertical-align:baseline\
 ;white-space:normal\;background-color:rgb(255\,255
 \,255)\;">\n 	<li>A foundation in the key principl
 es of administrative law</li>\n 	<li>Learn how to 
 manage a hearing ‒ from start to finish</li>\n 	<l
 i>The legal and practical requirements for adminis
 trative decisions</li>\n 	<li>Explore the evolving
  challenges faced by administrative adjudicators</
 li>\n 	<li>Discuss common challenges\, and success
 ful strategies\, with other adjudicators</li>\n 	<
 li>Gain insight from experienced adjudicators and 
 leaders in administrative justice</li>\n </ul>\n \
 n <p><strong><a href="https://osgoodepd.ca/profess
 ional-development/certificates/adjudication-for-ad
 ministrative-agencies-boards-tribunals-online-live
 /">5 day Consecutive Option</a></strong></p>\n \n 
 <p><strong>May 11-15\, 2026 <em>SOLD OUT </em></st
 rong>contact OPD to be added to the waiting list</
 p>\n \n <p><strong>November 30 - December 4\, 2026
  in-person only at OPD (1 Dundas Street West\, 26t
 h floor)</strong></p>\n \n <p><em>$3695.00 plus HS
 T</em></p>\n \n <p><em><strong><a href="https://os
 goodepd.ca/professional-development/certificates/a
 djudication-for-administrative-agencies-boards-tri
 bunals-online-live/">Register here</a></strong></e
 m></p>\n \n <p><strong><a href="https://osgoodepd.
 ca/professional-development/certificates/osgoodepd
 -soar-programs-in-adjudication/?utm_medium=digital
 &utm_source=brochure&utm_campaign=soar+programs&ut
 m_content=soar+conference">The Certificate in Adju
 dication (Online Blended) </a> </strong></p>\n \n 
 <p><a href="https://osgoodepd.ca/professional-deve
 lopment/certificates/adjudication-for-administrati
 ve-agencies-boards-and-tribunals-online-blended/">
 Adjudication for Administrative Agencies\, Boards 
 and Tribunals – Online\, Blended - OsgoodePD</a> <
 strong>Sept 14\, 28\, S October 13\, October 28 (9
 :00am-4:00pm)\,  Oct 29 (9:00am-4:00pm) 2026 in pe
 rson live online- online blended\, interactive</st
 rong></p>\n \n <p><em>$3695.00 plus HST</em></p>\n
  \n <p>Now available as a blended online program\,
  this online format includes the same elements tha
 t have made the Certificate in Adjudication a prem
 ium learning experience for more than 10 years.</p
 >\n \n <p>In an interactive\, online environment\,
  learn to run a fair and effective administrative 
 proceeding. The online format combines the benefit
 s of flexible asynchronous learning – giving you t
 he choice to learn when and where you want to – wi
 th live engagement with your peers\, faculty and e
 xperienced adjudicators.</p>\n \n <p>You will get 
 a solid foundation in the legal underpinnings of a
 dministrative adjudication\, develop and refine yo
 ur adjudication skills\, and learn practical strat
 egies for effective hearing management. Learn at y
 our own pace\, and have access to resources for 12
 0-days.</p>\n \n <p><em><a href="https://osgoodepd
 .ca/professional-development/certificates/adjudica
 tion-for-administrative-agencies-boards-and-tribun
 als-online-blended/"><strong>Register here</strong
 ></a></em></p>\n \n <p><span style="font-size:medi
 um"><strong>Registrations and Waitlists are manage
 d by Osgoode PD</strong>. </span></p></body></html
 >
DESCRIPTION:SOAR OsgoodePD Certificate in Adjudication for Adm
 inistrative Agencies\, Boards and Tribunals \n \n 
 \n A joint program of the Society of Ontario Adjud
 icators and Regulators (SOAR) and Osgoode Professi
 onal Development. Completion of this program will 
 prepare you for the unique challenges of administr
 ative adjudication\, will build confidence\, and w
 ill strengthen your capacity to contribute effecti
 vely to your organization.\n \n \n \n Learn to run
  a fair and effective administrative proceeding. O
 ver the course of 12 years\, the Certificate has p
 rovided hundreds of professionals with the practic
 al skills and legal knowledge they need to perform
  effectively in the administrative adjudication ar
 ena.\n \n \n \n Working with real-life fact scenar
 ios\, problems and demonstrations\, you will acqui
 re a solid foundation in the legal underpinnings o
 f administrative adjudication\, develop and refine
  your adjudication skills\, and learn practical st
 rategies for effective hearing management.\n \n \n
  \n \n 	A foundation in the key principles of admi
 nistrative law\n 	Learn how to manage a hearing ‒ 
 from start to finish\n 	The legal and practical re
 quirements for administrative decisions\n 	Explore
  the evolving challenges faced by administrative a
 djudicators\n 	Discuss common challenges\, and suc
 cessful strategies\, with other adjudicators\n 	Ga
 in insight from experienced adjudicators and leade
 rs in administrative justice\n \n \n 5 day Consecu
 tive Option (https://osgoodepd.ca/professional-dev
 elopment/certificates/adjudication-for-administrat
 ive-agencies-boards-tribunals-online-live/)\n \n \
 n \n May 11-15\, 2026 SOLD OUT contact OPD to be a
 dded to the waiting list\n \n \n \n November 30 - 
 December 4\, 2026 in-person only at OPD (1 Dundas 
 Street West\, 26th floor)\n \n \n \n $3695.00 plus
  HST\n \n \n \n Register here (https://osgoodepd.c
 a/professional-development/certificates/adjudicati
 on-for-administrative-agencies-boards-tribunals-on
 line-live/)\n \n \n \n The Certificate in Adjudica
 tion (Online Blended)  (https://osgoodepd.ca/profe
 ssional-development/certificates/osgoodepd-soar-pr
 ograms-in-adjudication/?utm_medium=digital&utm_sou
 rce=brochure&utm_campaign=soar+programs&utm_conten
 t=soar+conference) \n \n \n \n Adjudication for Ad
 ministrative Agencies\, Boards and Tribunals – Onl
 ine\, Blended - OsgoodePD (https://osgoodepd.ca/pr
 ofessional-development/certificates/adjudication-f
 or-administrative-agencies-boards-and-tribunals-on
 line-blended/) Sept 14\, 28\, S October 13\, Octob
 er 28 (9:00am-4:00pm)\,  Oct 29 (9:00am-4:00pm) 20
 26 in person live online- online blended\, interac
 tive\n \n \n \n $3695.00 plus HST\n \n \n \n Now a
 vailable as a blended online program\, this online
  format includes the same elements that have made 
 the Certificate in Adjudication a premium learning
  experience for more than 10 years.\n \n \n \n In 
 an interactive\, online environment\, learn to run
  a fair and effective administrative proceeding. T
 he online format combines the benefits of flexible
  asynchronous learning – giving you the choice to 
 learn when and where you want to – with live engag
 ement with your peers\, faculty and experienced ad
 judicators.\n \n \n \n You will get a solid founda
 tion in the legal underpinnings of administrative 
 adjudication\, develop and refine your adjudicatio
 n skills\, and learn practical strategies for effe
 ctive hearing management. Learn at your own pace\,
  and have access to resources for 120-days.\n \n \
 n \n Register here\n \n \n \n Registrations and Wa
 itlists are managed by Osgoode PD. \n \n 
CATEGORIES:Education
CALSCALE:GREGORIAN
DTSTAMP;TZID=America/Toronto:20260511T090000
DTSTART;TZID=America/Toronto:20260511T090000
DTEND;TZID=America/Toronto:20260515T163000
URL:https://soar.on.ca/civicrm/event/info?reset=1&id=78
END:VEVENT
END:VCALENDAR
