BEGIN:VCALENDAR
VERSION:2.0
PRODID:-//CiviCRM//NONSGML CiviEvent iCal//EN
X-WR-TIMEZONE:America/Toronto
METHOD:PUBLISH
BEGIN:VTIMEZONE
TZID:America/Toronto
BEGIN:DAYLIGHT
TZOFFSETFROM:-0400
TZOFFSETTO:-0400
TZNAME:EDT
DTSTART:20260602T120000
END:DAYLIGHT
END:VTIMEZONE
BEGIN:VEVENT
UID:CiviCRM_EventID_117_0e401c98cfe50cb3d4d7cb71b04e8a09@soar.on.ca
SUMMARY:But What Does it All Mean? Fun With Statutory Inte
 rpretation
X-ALT-DESC;FMTTYPE=text/html:<!DOCTYPE HTML PUBLIC
  "-//W3C//DTD HTML 3.2//EN"><html><body><h2><span 
 style="font-size:23.4px"><strong>But What Does it 
 All Mean?! Fun with Statutory Interpretation</stro
 ng></span></h2>\n \n <p>Tuesday June 2\, 2026<br /
 >\n 12:00pm - 2:00 pm</p>\n \n <p>REGISTRATION OPE
 NS MARCH 31\, 2026</p>\n \n <p>VIRTUAL USING ZOOM 
 MEETINGS</p>\n \n <p>Registration Fee: $75 plus HS
 T</p>\n \n <p><strong>SPEAKER: Professor Randal Gr
 aham</strong></p>\n \n <p>Join Western Law Profess
 or Randal Graham for an interactive foray into the
  world of legislative language. Using classic cour
 t decisions and examples from popular media\, Prof
 essor Graham will help us understand the fundament
 als of statutory interpretation. Exploring the con
 cepts of vagueness\, ambiguity and legislative int
 ention\, Professor Graham’s session will place par
 ticular emphasis on principles and “rules” that ar
 e useful to administrative officials faced with th
 e job of interpreting statutory language.</p>\n \n
  <p>Don't miss out on this fun and popular SOAR tr
 aining!</p>\n \n <p><em>Registrations are firm. Th
 ere are no refunds but we do allow substitutions w
 ithin one week of the program.</em></p>\n \n <p> <
 /p></body></html>
DESCRIPTION:But What Does it All Mean?! Fun with Statutory Int
 erpretation\n \n \n Tuesday June 2\, 2026\n \n 12:
 00pm - 2:00 pm\n \n \n \n REGISTRATION OPENS MARCH
  31\, 2026\n \n \n \n VIRTUAL USING ZOOM MEETINGS\
 n \n \n \n Registration Fee: $75 plus HST\n \n \n 
 \n SPEAKER: Professor Randal Graham\n \n \n \n Joi
 n Western Law Professor Randal Graham for an inter
 active foray into the world of legislative languag
 e. Using classic court decisions and examples from
  popular media\, Professor Graham will help us und
 erstand the fundamentals of statutory interpretati
 on. Exploring the concepts of vagueness\, ambiguit
 y and legislative intention\, Professor Graham’s s
 ession will place particular emphasis on principle
 s and “rules” that are useful to administrative of
 ficials faced with the job of interpreting statuto
 ry language.\n \n \n \n Don't miss out on this fun
  and popular SOAR training!\n \n \n \n Registratio
 ns are firm. There are no refunds but we do allow 
 substitutions within one week of the program.\n \n
  \n \n  \n \n 
CATEGORIES:Workshop
CALSCALE:GREGORIAN
DTSTAMP;TZID=America/Toronto:20260602T120000
DTSTART;TZID=America/Toronto:20260602T120000
DTEND;TZID=America/Toronto:20260602T140000
LOCATION:Live On ZOOM\n ON\n Canada\n 
URL:https://soar.on.ca/civicrm/event/info?reset=1&id=117
END:VEVENT
END:VCALENDAR
